BEGIN:VCALENDAR
VERSION:2.0
PRODID:-//ChamberMaster//Event Calendar 2.0//EN
METHOD:PUBLISH
X-PUBLISHED-TTL:P1H
REFRESH-INTERVAL:P1H
CALSCALE:GREGORIAN
BEGIN:VTIMEZONE
TZID:America/Phoenix
BEGIN:DAYLIGHT
DTSTART:20070311T020000
TZOFFSETFROM:-0700
TZOFFSETTO:-0700
TZNAME:(UTC-07:00) Arizona
END:DAYLIGHT
BEGIN:STANDARD
DTSTART:20071104T020000
TZOFFSETFROM:-0700
TZOFFSETTO:-0700
TZNAME:(UTC-07:00) Arizona
END:STANDARD
END:VTIMEZONE
BEGIN:VEVENT
DTSTART;TZID=America/Phoenix:20260812T120000
DTEND;TZID=America/Phoenix:20260812T130000
X-MICROSOFT-CDO-ALLDAYEVENT:FALSE
SUMMARY:Global Series: International Real Estate Reality Check: The New Outbound Client
DESCRIPTION:a {    text-decoration: none\;    color: #464feb\; }\ntr th\, tr td {    border: 1px solid #e6e6e6\; }\ntr th {    background-color: #f5f5f5\; }\n\na {    text-decoration: none\;    color: #464feb\; }\ntr th\, tr td {    border: 1px solid #e6e6e6\; }\ntr th {    background-color: #f5f5f5\; }\n\na {    text-decoration: none\;    color: #464feb\; }\ntr th\, tr td {    border: 1px solid #e6e6e6\; }\ntr th {    background-color: #f5f5f5\; }\nThe world is fast changing. Are you ready to help your clients as they look overseas? In this timely webinar\, Mike Cobb breaks down what's driving the surge in interest for living and purchasing abroad and shares a practical Belize case study to show how one country is adapting to new market realities. You'll leave with clearer talking points and a smarter framework for guiding "outbound" clients who are exploring international options right now.Michael K. Cobb\, visionary Founder and CEO of ECI Development\, is a leading force in international real estate. Since 1996\, Michael has created dynamic residential communities across Central America\, including Belize\, Nicaragua\, Panama\, Costa Rica\, Honduras\, and El Salvador. His developments range from private villas and tiny homes in an oceanfront golf resort\, to a Marriott Resort in Belize.\nAs a former 14-year expat with his wife and young daughters\, he understands the nuances of purchasing property abroad and provides invaluable support to overseas investors and expatriates. His insights are detailed in his book\, How to Buy Your Home Overseas.\nMichael founded Caye International Bank\, revolutionizing mortgage services in Belize and throughout the region. He is a sought-after speaker with coverage in Forbes\, Business Week\, the London Telegraph\, BBC-World Television\, and a frequent keynote speaker at major conferences.\nECI Development has amassed over 4000 acres of beachfront real estate across Belize\, Nicaragua\, Panama\, and Costa Rica\, and is expanding into Argentina\, Chile\, and Ecuador. The company's portfolio includes a Marriott Resort in Belize and a Best Western in Belize. Michael also assists clients with second residency solutions through reforestation visas and teak timber ownership and successful transition to Expat life.
X-ALT-DESC;FMTTYPE=text/html:<!DOCTYPE html><html><head><title></title></head><body aria-disabled="false" data-new-gr-c-s-loaded="8.937.0" spellcheck="false"><p><meta content="text/html\; charset=us-ascii" http-equiv="Content-Type"></p><style>\na {    text-decoration: none\;    color: #464feb\; }\ntr th\, tr td {    border: 1px solid #e6e6e6\; }\ntr th {    background-color: #f5f5f5\; }\n</style><style>\na {    text-decoration: none\;    color: #464feb\; }\ntr th\, tr td {    border: 1px solid #e6e6e6\; }\ntr th {    background-color: #f5f5f5\; }\n</style><p><meta content="text/html\; charset=us-ascii" http-equiv="Content-Type"></p><style>\na {    text-decoration: none\;    color: #464feb\; }\ntr th\, tr td {    border: 1px solid #e6e6e6\; }\ntr th {    background-color: #f5f5f5\; }\n</style><div style="font-family:'Segoe UI'\;font-size:14px\;font-style:normal\;font-weight:400\;line-height:20px\;"><strong fr-original-style="" style="font-weight: 700\;">The world is fast changing. Are you ready to help your clients as they look overseas?</strong> In this timely webinar\, <span data-focusable="true" data-testid="ppl-link" tabindex="0">Mike Cobb</span> breaks down what&rsquo\;s driving the surge in interest for living and purchasing abroad&mdash\;and shares a practical <strong fr-original-style="" style="font-weight: 700\;">Belize case study</strong> to show how one country is adapting to new market realities. You&rsquo\;ll leave with clearer talking points and a smarter framework for guiding &ldquo\;outbound&rdquo\; clients who are exploring international options right now.</div><p>Michael K. Cobb\, visionary Founder and CEO of ECI Development\, is a leading force in international real estate. Since 1996\, Michael has created dynamic residential communities across Central America\, including Belize\, Nicaragua\, Panama\, Costa Rica\, Honduras\, and El Salvador. His developments range from private villas and tiny homes in an oceanfront golf resort\, to a Marriott Resort in Belize.<br>As a former 14-year expat with his wife and young daughters\, he understands the nuances of purchasing property abroad and provides invaluable support to overseas investors and expatriates. His insights are detailed in his book\, How to Buy Your Home Overseas.<br>Michael founded Caye International Bank\, revolutionizing mortgage services in Belize and throughout the region. He is a sought-after speaker with coverage in Forbes\, Business Week\, the London Telegraph\, BBC-World Television\, and a frequent keynote speaker at major conferences.<br>ECI Development has amassed over 4000 acres of beachfront real estate across Belize\, Nicaragua\, Panama\, and Costa Rica\, and is expanding into Argentina\, Chile\, and Ecuador. The company&rsquo\;s portfolio includes a Marriott Resort in Belize and a Best Western in Belize. Michael also assists clients with second residency solutions through reforestation visas and teak timber ownership and successful transition to Expat life.</p><p><br></p></body></html>
LOCATION:AZ
UID:e.4073.1450655
SEQUENCE:3
DTSTAMP:20260426T002027Z
URL:https://members.weserv.realtor/cochise-county-calendar/Details/global-series-international-real-estate-reality-check-the-new-outbound-client-1718307?sourceTypeId=Hub
END:VEVENT
END:VCALENDAR
