BEGIN:VCALENDAR
VERSION:2.0
PRODID:-//ChamberMaster//Event Calendar 2.0//EN
METHOD:PUBLISH
X-PUBLISHED-TTL:P1H
REFRESH-INTERVAL:P1H
CALSCALE:GREGORIAN
BEGIN:VTIMEZONE
TZID:America/Phoenix
BEGIN:DAYLIGHT
DTSTART:20070311T020000
TZOFFSETFROM:-0700
TZOFFSETTO:-0700
TZNAME:(UTC-07:00) Arizona
END:DAYLIGHT
BEGIN:STANDARD
DTSTART:20071104T020000
TZOFFSETFROM:-0700
TZOFFSETTO:-0700
TZNAME:(UTC-07:00) Arizona
END:STANDARD
END:VTIMEZONE
BEGIN:VEVENT
DTSTART;TZID=America/Phoenix:20250501T083000
DTEND;TZID=America/Phoenix:20250501T120000
X-MICROSOFT-CDO-ALLDAYEVENT:FALSE
SUMMARY:Buckeye - Verrado Home Tour
DESCRIPTION:In the spirit of helping boost home sales\, your WeSERV West Valley Affiliates bring you West Valley Home Tours. These home tours are an excellent way to showcase your listings\, network with fellow REALTORS \, build relationships\, and sell homes.All REALTORS  and affiliates are welcome to attend the tours\, with or without a home on tour. Attendance is complimentary. Before attending the tours\, please contact the tour coordinators to confirm that the tour is still scheduled.There is also no cost to add listings to the tours. Listings placed on tour are on a first-come\, first-served basis. Send your MLS Plano with your contact information to the coordinators at least three days before the tour.Buckeye | Verrado Home Tour\n1st Thursday of each month at 8:30 AM - 12:00 PM\nAnthem Coffee | 19425 W Indian School Rd\, #101\, Litchfield Park 85340Tour Coordinators\nJustin Washburn\, WIN Home Inspections\, 623-399-6222\nLesa Connell\, Pioneer Title\, 602-570-5329Buckeye | Verrado Tour Boundaries\nVerrado Area North of I-10\, 85395 & 85340 (West of L-303) If you haven't toured with us before\, please note that everyone on tour meets at the stated tour location and tours the homes together. It allows everyone to view the houses and complete the feedback/comment sheet so listing agents can share this information with their sellers. A licensed agent must be present for each listing shown and stay for the duration of the tour. These tours are caravan-style.
X-ALT-DESC;FMTTYPE=text/html:<!DOCTYPE html><html><head><title></title></head><body aria-disabled="false"><p>In the spirit of helping boost home sales\, your WeSERV West Valley Affiliates bring you West Valley Home Tours. These home tours are an excellent way to showcase your listings\, network with fellow REALTORS&reg\;\, build relationships\, and sell homes.</p><p>All REALTORS&reg\; and affiliates are welcome to attend the tours\, with or without a home on tour. Attendance is complimentary. Before attending the tours\, please contact the tour coordinators to confirm that the tour is still scheduled.</p><p>There is also no cost to add listings to the tours. Listings placed on tour are on a first-come\, first-served basis. Send your MLS Plano with your contact information to the coordinators at least three days before the tour.</p><p><strong fr-original-style="" style="font-weight: 700\;">Buckeye | Verrado Home Tour</strong><br>1st Thursday of each month at 8:30 AM - 12:00 PM<br style="box-sizing: border-box\;">Anthem Coffee | 19425 W Indian School Rd\, #101\, Litchfield Park 85340</p><p><b style="box-sizing: border-box\; font-weight: 700\; color: rgb(51\, 51\, 51)\; font-family: Lato\, sans-serif\; font-size: 16px\; font-style: normal\; font-variant-ligatures: normal\; font-variant-caps: normal\; letter-spacing: normal\; orphans: 2\; text-align: start\; text-indent: 0px\; text-transform: none\; widows: 2\; word-spacing: 0px\; -webkit-text-stroke-width: 0px\; white-space: normal\; background-color: rgb(255\, 255\, 255)\; text-decoration-thickness: initial\; text-decoration-style: initial\; text-decoration-color: initial\;">Tour Coordinators</b><br style="box-sizing: border-box\; color: rgb(51\, 51\, 51)\; font-family: Lato\, sans-serif\; font-size: 16px\; font-style: normal\; font-variant-ligatures: normal\; font-variant-caps: normal\; font-weight: 400\; letter-spacing: normal\; orphans: 2\; text-align: start\; text-indent: 0px\; text-transform: none\; widows: 2\; word-spacing: 0px\; -webkit-text-stroke-width: 0px\; white-space: normal\; background-color: rgb(255\, 255\, 255)\; text-decoration-thickness: initial\; text-decoration-style: initial\; text-decoration-color: initial\;"><span style="color: rgb(51\, 51\, 51)\; font-family: Lato\, sans-serif\; font-size: 16px\; font-style: normal\; font-variant-ligatures: normal\; font-variant-caps: normal\; font-weight: 400\; letter-spacing: normal\; orphans: 2\; text-align: start\; text-indent: 0px\; text-transform: none\; widows: 2\; word-spacing: 0px\; -webkit-text-stroke-width: 0px\; white-space: normal\; background-color: rgb(255\, 255\, 255)\; text-decoration-thickness: initial\; text-decoration-style: initial\; text-decoration-color: initial\; display: inline !important\; float: none\;">Justin Washburn\, WIN Home Inspections\, 623-399-6222</span><br style="box-sizing: border-box\; color: rgb(51\, 51\, 51)\; font-family: Lato\, sans-serif\; font-size: 16px\; font-style: normal\; font-variant-ligatures: normal\; font-variant-caps: normal\; font-weight: 400\; letter-spacing: normal\; orphans: 2\; text-align: start\; text-indent: 0px\; text-transform: none\; widows: 2\; word-spacing: 0px\; -webkit-text-stroke-width: 0px\; white-space: normal\; background-color: rgb(255\, 255\, 255)\; text-decoration-thickness: initial\; text-decoration-style: initial\; text-decoration-color: initial\;"><span style="color: rgb(51\, 51\, 51)\; font-family: Lato\, sans-serif\; font-size: 16px\; font-style: normal\; font-variant-ligatures: normal\; font-variant-caps: normal\; font-weight: 400\; letter-spacing: normal\; orphans: 2\; text-align: start\; text-indent: 0px\; text-transform: none\; widows: 2\; word-spacing: 0px\; -webkit-text-stroke-width: 0px\; white-space: normal\; background-color: rgb(255\, 255\, 255)\; text-decoration-thickness: initial\; text-decoration-style: initial\; text-decoration-color: initial\; display: inline !important\; float: none\;">Lesa Connell\, Pioneer Title\, 602-570-5329</span></p><p><span style="color: rgb(51\, 51\, 51)\; font-family: Lato\, sans-serif\; font-size: 16px\; font-style: normal\; font-variant-ligatures: normal\; font-variant-caps: normal\; font-weight: 400\; letter-spacing: normal\; orphans: 2\; text-align: start\; text-indent: 0px\; text-transform: none\; widows: 2\; word-spacing: 0px\; -webkit-text-stroke-width: 0px\; white-space: normal\; background-color: rgb(255\, 255\, 255)\; text-decoration-thickness: initial\; text-decoration-style: initial\; text-decoration-color: initial\; display: inline !important\; float: none\;"><b style="box-sizing: border-box\; font-weight: 700\; color: rgb(51\, 51\, 51)\; font-family: Lato\, sans-serif\; font-size: 16px\; font-style: normal\; font-variant-ligatures: normal\; font-variant-caps: normal\; letter-spacing: normal\; orphans: 2\; text-align: start\; text-indent: 0px\; text-transform: none\; widows: 2\; word-spacing: 0px\; -webkit-text-stroke-width: 0px\; white-space: normal\; background-color: rgb(255\, 255\, 255)\; text-decoration-thickness: initial\; text-decoration-style: initial\; text-decoration-color: initial\;">Buckeye | Verrado Tour Boundaries</b><br style="box-sizing: border-box\; color: rgb(51\, 51\, 51)\; font-family: Lato\, sans-serif\; font-size: 16px\; font-style: normal\; font-variant-ligatures: normal\; font-variant-caps: normal\; font-weight: 400\; letter-spacing: normal\; orphans: 2\; text-align: start\; text-indent: 0px\; text-transform: none\; widows: 2\; word-spacing: 0px\; -webkit-text-stroke-width: 0px\; white-space: normal\; background-color: rgb(255\, 255\, 255)\; text-decoration-thickness: initial\; text-decoration-style: initial\; text-decoration-color: initial\;"></span><span style="color: rgb(51\, 51\, 51)\; font-family: Lato\, sans-serif\; font-size: 16px\; font-style: normal\; font-variant-ligatures: normal\; font-variant-caps: normal\; font-weight: 400\; letter-spacing: normal\; orphans: 2\; text-align: start\; text-indent: 0px\; text-transform: none\; widows: 2\; word-spacing: 0px\; -webkit-text-stroke-width: 0px\; white-space: normal\; background-color: rgb(255\, 255\, 255)\; text-decoration-thickness: initial\; text-decoration-style: initial\; text-decoration-color: initial\; display: inline !important\; float: none\;color: rgb(51\, 51\, 51)\; font-family: Lato\, sans-serif\; font-size: 16px\; font-style: normal\; font-variant-ligatures: normal\; font-variant-caps: normal\; font-weight: 400\; letter-spacing: normal\; orphans: 2\; text-align: start\; text-indent: 0px\; text-transform: none\; widows: 2\; word-spacing: 0px\; -webkit-text-stroke-width: 0px\; white-space: normal\; background-color: rgb(255\, 255\, 255)\; text-decoration-thickness: initial\; text-decoration-style: initial\; text-decoration-color: initial\; display: inline !important\; float: none\;">Verrado Area North of I-10\, 85395 &amp\; 85340 (West of L-303)</span><span style="color: rgb(51\, 51\, 51)\; font-family: Lato\, sans-serif\; font-size: 16px\; font-style: normal\; font-variant-ligatures: normal\; font-variant-caps: normal\; font-weight: 400\; letter-spacing: normal\; orphans: 2\; text-align: start\; text-indent: 0px\; text-transform: none\; widows: 2\; word-spacing: 0px\; -webkit-text-stroke-width: 0px\; white-space: normal\; background-color: rgb(255\, 255\, 255)\; text-decoration-thickness: initial\; text-decoration-style: initial\; text-decoration-color: initial\; display: inline !important\; float: none\;">&nbsp\;</span></p><p>If you haven&#39\;t toured with us before\, please note that everyone on tour meets at the stated tour location and tours the homes together. It allows everyone to view the houses and complete the feedback/comment sheet so listing agents can share this information with their sellers. A licensed agent must be present for each listing shown and stay for the duration of the tour. These tours are caravan-style.</p></body></html>
LOCATION:19425 W Indian School Rd #101 Litchfield Park AZ 85340
UID:e.4073.1082095
SEQUENCE:3
DTSTAMP:20260423T152705Z
URL:https://members.weserv.realtor/cochise-county-calendar/Details/buckeye-verrado-home-tour-1409260?sourceTypeId=Hub
END:VEVENT
END:VCALENDAR
