BEGIN:VCALENDAR
VERSION:2.0
PRODID:-//ChamberMaster//Event Calendar 2.0//EN
METHOD:PUBLISH
X-PUBLISHED-TTL:P1H
REFRESH-INTERVAL:P1H
CALSCALE:GREGORIAN
BEGIN:VTIMEZONE
TZID:America/Phoenix
BEGIN:DAYLIGHT
DTSTART:20070311T020000
TZOFFSETFROM:-0700
TZOFFSETTO:-0700
TZNAME:(UTC-07:00) Arizona
END:DAYLIGHT
BEGIN:STANDARD
DTSTART:20071104T020000
TZOFFSETFROM:-0700
TZOFFSETTO:-0700
TZNAME:(UTC-07:00) Arizona
END:STANDARD
END:VTIMEZONE
BEGIN:VEVENT
DTSTART;TZID=America/Phoenix:20260512T090000
DTEND;TZID=America/Phoenix:20260512T160000
X-MICROSOFT-CDO-ALLDAYEVENT:FALSE
SUMMARY:rCRMS: Disclose & Diligence
DESCRIPTION:6 Hours Disclosure Credit\nThis course explores key risk management issues related to disclosures and due diligence. It covers the risks you face when you fail to make required disclosures to clients and customers\, seller disclosure obligations under common law and Arizona statutes\, as well as buyer disclosure requirements. The course also examines how the Buyer Advisory supports buyers during the due diligence process and highlights the risks associated with failing to complete necessary inspections and investigations.You will leave the class knowing:How to avoid risks associated with failing to make the required disclosures to clients and non-clients.Identify required seller disclosures as required by common law and Arizona statute.Identify items required to be disclosed by buyers in a transaction.Understand how Buyer Advisory can reduce liability.Avoid risks associated with inspections and investigations.Instructors\, Rick Mack\, Esq. & Jim SextonContinuing Education is provided by the West and Southeast REALTORS  of the Valley (School License R-2009)\, 480-477-5882\, education@weserv.realtor (Admin: Roger Nelson)
X-ALT-DESC;FMTTYPE=text/html:<!DOCTYPE html><html><head><title></title></head><body aria-disabled="false"><table fr-original-style="width: 100%\; margin-left: calc(0%)\;" style="width: 100%\; margin-left: calc(0%)\; border: 0px\; border-collapse: collapse\; empty-cells: show\; max-width: 100%\;"><tbody><tr fr-original-style="" style="user-select: none\;"><td fr-original-style="width: 100%\; text-align: center\; background-color: rgb(204\, 204\, 204)\;" style="width: 100%\; text-align: center\; background-color: rgb(204\, 204\, 204)\; min-width: 5px\; border: 1px solid rgb(221\, 221\, 221)\; user-select: text\;">6 Hours Disclosure Credit</td></tr></tbody></table><p><br>This course explores key risk management issues related to disclosures and due diligence. It covers the risks you face when you fail to make required disclosures to clients and customers\, seller disclosure obligations under common law and Arizona statutes\, as well as buyer disclosure requirements. The course also examines how the Buyer Advisory supports buyers during the due diligence process and highlights the risks associated with failing to complete necessary inspections and investigations.</p><p style="margin: 0px 0px 1.5em\; padding: 0px\; box-sizing: border-box\; border: 0px\; font-size: 1rem\; vertical-align: baseline\; background: white\; line-height: 16.5pt\; text-align: left !important\;"><strong fr-original-style="margin: 0px\; padding: 0px\; box-sizing: border-box\; border: 0px\; font-size: 16px\; vertical-align: baseline\; background: transparent\; font-weight: bold\;" style="margin: 0px\; padding: 0px\; box-sizing: border-box\; border: 0px\; font-size: 16px\; vertical-align: baseline\; background: transparent\; font-weight: bold\;">You will leave the class knowing:</strong></p><ul fr-original-style="" style="list-style-position: inside\;"><li>How to avoid risks associated with failing to make the required disclosures to clients and non-clients.</li><li>Identify required seller disclosures as required by common law and Arizona statute.</li><li>Identify items required to be disclosed by buyers in a transaction.</li><li>Understand how Buyer Advisory can reduce liability.</li><li>Avoid risks associated with inspections and investigations.</li></ul><p><strong fr-original-style="">Instructors\, Rick Mack\, Esq. &amp\; Jim Sexton</strong></p><p><a href="https://www.aaronline.com/calendar/view-event/?id=2219" rel="noopener noreferrer" target="_blank" fr-original-style="" style="user-select: auto\;"></a>Continuing Education is provided by the West and Southeast REALTORS&reg\; of the Valley (School License R-2009)\, 480-477-5882\, <a fr-original-style="" href="mailto:education@weserv.realtor" style="user-select: auto\;">education@weserv.realtor</a> (Admin: Roger Nelson)</p></body></html>
LOCATION:9001 W Union Hills Dr\, Suite 8 Peoria AZ 85382
UID:e.4073.1435372
SEQUENCE:3
DTSTAMP:20260421T225530Z
URL:https://members.weserv.realtor/cochise-county-calendar/Details/rcrms-disclose-diligence-1699082?sourceTypeId=Hub
END:VEVENT
END:VCALENDAR
