BEGIN:VCALENDAR
VERSION:2.0
PRODID:-//ChamberMaster//Event Calendar 2.0//EN
METHOD:PUBLISH
X-PUBLISHED-TTL:P1H
REFRESH-INTERVAL:P1H
CALSCALE:GREGORIAN
BEGIN:VTIMEZONE
TZID:America/Phoenix
BEGIN:DAYLIGHT
DTSTART:20070311T020000
TZOFFSETFROM:-0700
TZOFFSETTO:-0700
TZNAME:(UTC-07:00) Arizona
END:DAYLIGHT
BEGIN:STANDARD
DTSTART:20071104T020000
TZOFFSETFROM:-0700
TZOFFSETTO:-0700
TZNAME:(UTC-07:00) Arizona
END:STANDARD
END:VTIMEZONE
BEGIN:VEVENT
DTSTART;TZID=America/Phoenix:20261009T100000
DTEND;TZID=America/Phoenix:20261009T113000
X-MICROSOFT-CDO-ALLDAYEVENT:FALSE
SUMMARY:Doreen Cott\, Queen Creek Economic Development Director - Government Affairs Info Meeting in Cooperation with SEV Affiliates
DESCRIPTION:Doreen Cott is the Economic Development Director for the Town of Queen Creek. She actively works to diversify and strengthen Queen Creek's economic base through business attraction\, a focus on small business development\, support of entrepreneurs in the community and a robust tourism program. In addition to Economic Development\, Doreen oversees Horseshoe Park & Equestrian Centre. Doreen has been with the Town twenty years\, and has been working in the economic development field for 28 years.
X-ALT-DESC;FMTTYPE=text/html:<!DOCTYPE html><html><head><title></title></head><body aria-disabled="false" spellcheck="false"><p><span style='color: rgb(0\, 0\, 0)\; font-family: "Times New Roman"\; font-size: medium\; font-style: normal\; font-variant-ligatures: normal\; font-variant-caps: normal\; font-weight: 400\; letter-spacing: normal\; orphans: 2\; text-align: start\; text-indent: 0px\; text-transform: none\; widows: 2\; word-spacing: 0px\; -webkit-text-stroke-width: 0px\; white-space: normal\; text-decoration-thickness: initial\; text-decoration-style: initial\; text-decoration-color: initial\; display: inline !important\; float: none\;'>Doreen Cott is the Economic Development Director for the Town of Queen Creek. She actively works to diversify and strengthen Queen Creek&rsquo\;s economic base through business attraction\, a focus on small business development\, support of entrepreneurs in the community and a robust tourism program. In addition to Economic Development\, Doreen oversees Horseshoe Park &amp\; Equestrian Centre. Doreen has been with the Town twenty years\, and has been working in the economic development field for 28 years.</span> </p></body></html>
LOCATION:1733 E Northrop Blvd #1 Chandler AZ 85286
UID:e.4073.1445578
SEQUENCE:3
DTSTAMP:20260425T225520Z
URL:https://members.weserv.realtor/cochise-county-calendar/Details/doreen-cott-queen-creek-economic-development-director-government-affairs-info-meeting-in-cooperation-with-sev-affiliates-1712194?sourceTypeId=Hub
END:VEVENT
END:VCALENDAR
