BEGIN:VCALENDAR
VERSION:2.0
PRODID:-//ChamberMaster//Event Calendar 2.0//EN
METHOD:PUBLISH
X-PUBLISHED-TTL:P1H
REFRESH-INTERVAL:P1H
CALSCALE:GREGORIAN
BEGIN:VTIMEZONE
TZID:America/Phoenix
BEGIN:DAYLIGHT
DTSTART:20070311T020000
TZOFFSETFROM:-0700
TZOFFSETTO:-0700
TZNAME:(UTC-07:00) Arizona
END:DAYLIGHT
BEGIN:STANDARD
DTSTART:20071104T020000
TZOFFSETFROM:-0700
TZOFFSETTO:-0700
TZNAME:(UTC-07:00) Arizona
END:STANDARD
END:VTIMEZONE
BEGIN:VEVENT
DTSTART;TZID=America/Phoenix:20260714T083000
DTEND;TZID=America/Phoenix:20260714T100000
X-MICROSOFT-CDO-ALLDAYEVENT:FALSE
SUMMARY:Commercial Connection: Thinking Bigger in Commercial Real Estate
DESCRIPTION:Hani Aldulaimi\, CCIMClass Description:The commercial real estate landscape is shifting and the window of opportunity has never been wider. With $2.7 trillion in CRE debt coming due\, baby boomers preparing to exit $10 15 trillion in holdings\, and AI reshaping the residential market\, agents and investors who are properly positioned stand to capture life-changing deals.In this session\, Hani walks through real-world examples from his own deal experience and shares a practical five-step roadmap for leveling up your real estate business. Whether you're a residential agent exploring diversification or an experienced investor ready to scale\, this class will show you how to answer when opportunity comes knocking.Bio:Hani Aldulaimi\, Managing Director at KW Commercial\, has been active in Arizona commercial real estate since 2000. A Cornell University graduate\, he oversees multiple offices across the Southwest and works with a wide range of clients from first-time business owners to seasoned developers\, corporations\, and family offices\; across office\, retail\, industrial\, land\, and investment properties.Known for his ability to simplify complex situations and provide clear\, confident guidance\, Hani brings a uniquely hands-on perspective as an active investor\, licensed general contractor\, developer\, and entrepreneur. Over his career\, he has been involved in more than 1\,200 transactions totaling over $950 million in value\, building lasting relationships grounded in trust\, transparency\, and results.
X-ALT-DESC;FMTTYPE=text/html:<!DOCTYPE html><html><head><title></title></head><body aria-disabled="false" data-new-gr-c-s-loaded="8.936.0" spellcheck="false"><p>Hani Aldulaimi\, CCIM</p><p>Class Description:</p><p>The commercial real estate landscape is shifting and the window of opportunity has never been wider. With $2.7 trillion in CRE debt coming due\, baby boomers preparing to exit $10&ndash\;15 trillion in holdings\, and AI reshaping the residential market\, agents and investors who are properly positioned stand to capture life-changing deals.</p><p>In this session\, Hani walks through real-world examples from his own deal experience and shares a practical five-step roadmap for leveling up your real estate business. Whether you&#39\;re a residential agent exploring diversification or an experienced investor ready to scale\, this class will show you how to answer when opportunity comes knocking.</p><p>Bio:</p><p>Hani Aldulaimi\, Managing Director at KW Commercial\, has been active in Arizona commercial real estate since 2000. A Cornell University graduate\, he oversees multiple offices across the Southwest and works with a wide range of clients from first-time business owners to seasoned developers\, corporations\, and family offices\; across office\, retail\, industrial\, land\, and investment properties.</p><p>Known for his ability to simplify complex situations and provide clear\, confident guidance\, Hani brings a uniquely hands-on perspective as an active investor\, licensed general contractor\, developer\, and entrepreneur. Over his career\, he has been involved in more than 1\,200 transactions totaling over $950 million in value\, building lasting relationships grounded in trust\, transparency\, and results.</p></body></html>
LOCATION:1733 E Northrop Blvd #1 Chandler AZ 85286
UID:e.4073.1445866
SEQUENCE:3
DTSTAMP:20260425T225351Z
URL:https://members.weserv.realtor/cochise-county-calendar/Details/commercial-connection-thinking-bigger-in-commercial-real-estate-1530210?sourceTypeId=Hub
END:VEVENT
END:VCALENDAR
