BEGIN:VCALENDAR
VERSION:2.0
PRODID:-//ChamberMaster//Event Calendar 2.0//EN
METHOD:PUBLISH
X-PUBLISHED-TTL:P1H
REFRESH-INTERVAL:P1H
CALSCALE:GREGORIAN
BEGIN:VTIMEZONE
TZID:America/Phoenix
BEGIN:DAYLIGHT
DTSTART:20070311T020000
TZOFFSETFROM:-0700
TZOFFSETTO:-0700
TZNAME:(UTC-07:00) Arizona
END:DAYLIGHT
BEGIN:STANDARD
DTSTART:20071104T020000
TZOFFSETFROM:-0700
TZOFFSETTO:-0700
TZNAME:(UTC-07:00) Arizona
END:STANDARD
END:VTIMEZONE
BEGIN:VEVENT
DTSTART;TZID=America/Phoenix:20260505T090000
DTEND;TZID=America/Phoenix:20260505T110000
X-MICROSOFT-CDO-ALLDAYEVENT:FALSE
SUMMARY:Breakfast with Tina Tamboer
DESCRIPTION:a {    text-decoration: none\;    color: #464feb\; }\ntr th\, tr td {    border: 1px solid #e6e6e6\; }\ntr th {    background-color: #f5f5f5\; }\n\na {    text-decoration: none\;    color: #464feb\; }\ntr th\, tr td {    border: 1px solid #e6e6e6\; }\ntr th {    background-color: #f5f5f5\; }\n\na {    text-decoration: none\;    color: #464feb\; }\ntr th\, tr td {    border: 1px solid #e6e6e6\; }\ntr th {    background-color: #f5f5f5\; }\n\na {    text-decoration: none\;    color: #464feb\; }\ntr th\, tr td {    border: 1px solid #e6e6e6\; }\ntr th {    background-color: #f5f5f5\; }\n\na {    text-decoration: none\;    color: #464feb\; }\ntr th\, tr td {    border: 1px solid #e6e6e6\; }\ntr th {    background-color: #f5f5f5\; }\nJoin the Women's Council of REALTORS  West Valley for Breakfast with Tina Tamboer!Enjoy an informative morning with the Housing Analyst from The Cromford Report as she breaks down the Greater Phoenix Area market.Schedule\n9:00 - 9:30 AM | Networking\n9:30 - 11:00 AM | Meeting/PresentationRegister at https://2026-west-valley-breakfast-meetings-copy-32605.cheddarup.com
X-ALT-DESC;FMTTYPE=text/html:<!DOCTYPE html><html><head><title></title></head><body aria-disabled="false"><p><meta content="text/html\; charset=us-ascii" http-equiv="Content-Type"></p><style>\na {    text-decoration: none\;    color: #464feb\; }\ntr th\, tr td {    border: 1px solid #e6e6e6\; }\ntr th {    background-color: #f5f5f5\; }\n</style><style>\na {    text-decoration: none\;    color: #464feb\; }\ntr th\, tr td {    border: 1px solid #e6e6e6\; }\ntr th {    background-color: #f5f5f5\; }\n</style><p><meta content="text/html\; charset=us-ascii" http-equiv="Content-Type"></p><style>\na {    text-decoration: none\;    color: #464feb\; }\ntr th\, tr td {    border: 1px solid #e6e6e6\; }\ntr th {    background-color: #f5f5f5\; }\n</style><p><meta content="text/html\; charset=us-ascii" http-equiv="Content-Type"></p><style>\na {    text-decoration: none\;    color: #464feb\; }\ntr th\, tr td {    border: 1px solid #e6e6e6\; }\ntr th {    background-color: #f5f5f5\; }\n</style><style>\na {    text-decoration: none\;    color: #464feb\; }\ntr th\, tr td {    border: 1px solid #e6e6e6\; }\ntr th {    background-color: #f5f5f5\; }\n</style><p><meta content="text/html\; charset=us-ascii" http-equiv="Content-Type"></p><p>Join the Women&rsquo\;s Council of REALTORS&reg\; West Valley for Breakfast with Tina Tamboer!</p><p>Enjoy an informative morning with the Housing Analyst from The Cromford Report as she breaks down the Greater Phoenix Area market.</p><p><strong fr-original-style="" style="font-weight: 700\;"><u>Schedule</u></strong><br>9:00 - 9:30 AM | Networking<br>9:30 - 11:00 AM | Meeting/Presentation</p><p><strong fr-original-style="" style="font-weight: 700\;">Register at&nbsp\;</strong><a fr-original-style="" href="https://2026-west-valley-breakfast-meetings-copy-32605.cheddarup.com" rel="noopener noreferrer" style="text-decoration: none\; color: rgb(70\, 79\, 235)\; user-select: auto\;" target="_blank">https://2026-west-valley-breakfast-meetings-copy-32605.cheddarup.com</a></p></body></html>
LOCATION:9001 W Union Hills Dr Suite 8 Peoria AZ 85382
UID:e.4073.1451305
SEQUENCE:3
DTSTAMP:20260425T225220Z
URL:https://members.weserv.realtor/cochise-county-calendar/Details/breakfast-with-tina-tamboer-1719034?sourceTypeId=Hub
END:VEVENT
END:VCALENDAR
